BEGIN:VCALENDAR
VERSION:2.0
PRODID:-//ACEDS - ECPv6.15.13.1//NONSGML v1.0//EN
CALSCALE:GREGORIAN
METHOD:PUBLISH
X-WR-CALNAME:ACEDS
X-ORIGINAL-URL:https://benelux.aceds.org
X-WR-CALDESC:Events for ACEDS
REFRESH-INTERVAL;VALUE=DURATION:PT1H
X-Robots-Tag:noindex
X-PUBLISHED-TTL:PT1H
BEGIN:VTIMEZONE
TZID:Europe/Brussels
BEGIN:DAYLIGHT
TZOFFSETFROM:+0100
TZOFFSETTO:+0200
TZNAME:CEST
DTSTART:20230326T010000
END:DAYLIGHT
BEGIN:STANDARD
TZOFFSETFROM:+0200
TZOFFSETTO:+0100
TZNAME:CET
DTSTART:20231029T010000
END:STANDARD
BEGIN:DAYLIGHT
TZOFFSETFROM:+0100
TZOFFSETTO:+0200
TZNAME:CEST
DTSTART:20240331T010000
END:DAYLIGHT
BEGIN:STANDARD
TZOFFSETFROM:+0200
TZOFFSETTO:+0100
TZNAME:CET
DTSTART:20241027T010000
END:STANDARD
BEGIN:DAYLIGHT
TZOFFSETFROM:+0100
TZOFFSETTO:+0200
TZNAME:CEST
DTSTART:20250330T010000
END:DAYLIGHT
BEGIN:STANDARD
TZOFFSETFROM:+0200
TZOFFSETTO:+0100
TZNAME:CET
DTSTART:20251026T010000
END:STANDARD
END:VTIMEZONE
BEGIN:VEVENT
DTSTART;VALUE=DATE:20240402
DTEND;VALUE=DATE:20240403
DTSTAMP:20260422T012157
CREATED:20240312T220630Z
LAST-MODIFIED:20240312T221347Z
UID:10000002-1712016000-1712102399@benelux.aceds.org
SUMMARY:E-Discovery Symposium 2024
DESCRIPTION:The ACEDS Benelux Chapter is thrilled to be participating in the upcoming event\, the E-Discovery Symposium 2024 hosted by Hogeschool Leiden. As a leading organization in the field of e-discovery\, ACEDS recognizes the importance of staying at the forefront of industry trends\, advancements\, and best practices. Events like the E-Discovery Symposium provide invaluable opportunities for networking\, knowledge exchange\, and professional development. \nCome and meet us at the ACEDS Benelux Chapter booth! \nLearn More and Register
URL:https://benelux.aceds.org/events/e-discovery-symposium-2024/
ATTACH;FMTTYPE=image/png:https://benelux.aceds.org/wp-content/uploads/2024/03/logo-hogeschool_leiden.png
END:VEVENT
END:VCALENDAR